BEGIN:VCALENDAR
PRODID:-//Microsoft Corporation//Outlook 12.0 MIMEDIR//EN
VERSION:2.0
METHOD:PUBLISH
X-MS-OLK-FORCEINSPECTOROPEN:TRUE
BEGIN:VEVENT
CLASS:PUBLIC
DESCRIPTION: Know Ahead\nMake sure you are familiar with, and know, the appropriate section(s) of the Adaptive Certification Guide and the National Adaptive Standards. And that you have talked with your trainer on expectations and your readiness for the exam.\n\nThe resort is generously supporting this program by providing lift tickets only for those who do not hold a season pass at the area.
DTEND:20260222T23:30:00Z
DTSTAMP:20260421T08:39:46Z
DTSTART:20260222T16:30:00Z
LAST-MODIFIED:20260421T08:39:46Z
LOCATION: Mt. Bachelor[location]
SUMMARY;LANGUAGE=en-us:Cognitive Adaptive Level 2 On Snow Assessment
UID:20260421T08:39:46Z-18420-1949691778
END:VEVENT
END:VCALENDAR
