BEGIN:VCALENDAR
PRODID:-//Microsoft Corporation//Outlook 12.0 MIMEDIR//EN
VERSION:2.0
METHOD:PUBLISH
X-MS-OLK-FORCEINSPECTOROPEN:TRUE
BEGIN:VEVENT
CLASS:PUBLIC
DESCRIPTION: The resort is supporting this with tickets for those who do not have a pass at the area.\n
DTEND:20260213T00:00:00Z
DTSTAMP:20260421T10:06:43Z
DTSTART:20260211T16:30:00Z
LAST-MODIFIED:20260421T10:06:43Z
LOCATION: Mt. Bachelor[location]
SUMMARY;LANGUAGE=en-us:Snowboard Level I Assessment
UID:20260421T10:06:43Z-17822-1344796019
END:VEVENT
END:VCALENDAR
