BEGIN:VCALENDAR
PRODID:-//Microsoft Corporation//Outlook 12.0 MIMEDIR//EN
VERSION:2.0
METHOD:PUBLISH
X-MS-OLK-FORCEINSPECTOROPEN:TRUE
BEGIN:VEVENT
CLASS:PUBLIC
DESCRIPTION: Alyeska is supporting with tickets for those who do not have a pass at the area.
DTEND:20260213T01:00:00Z
DTSTAMP:20260421T10:00:57Z
DTSTART:20260212T18:30:00Z
LAST-MODIFIED:20260421T10:00:57Z
LOCATION: Alyeska Resort[location]
SUMMARY;LANGUAGE=en-us:She Shreds - Women's Tailored
UID:20260421T10:00:57Z-16906-853466555
END:VEVENT
END:VCALENDAR
