BEGIN:VCALENDAR
PRODID:-//Microsoft Corporation//Outlook 12.0 MIMEDIR//EN
VERSION:2.0
METHOD:PUBLISH
X-MS-OLK-FORCEINSPECTOROPEN:TRUE
BEGIN:VEVENT
CLASS:PUBLIC
DESCRIPTION: Lift tickets are supported by the area for those who do not have a pass.
DTEND:20260508T20:30:00Z
DTSTAMP:20260421T08:38:57Z
DTSTART:20260507T15:30:00Z
LAST-MODIFIED:20260421T08:38:57Z
LOCATION: Mt. Bachelor[location]
SUMMARY;LANGUAGE=en-us:Freestyle Camp
UID:20260421T08:38:57Z-16747-2006044426
END:VEVENT
END:VCALENDAR
