BEGIN:VCALENDAR
PRODID:-//Microsoft Corporation//Outlook 12.0 MIMEDIR//EN
VERSION:2.0
METHOD:PUBLISH
X-MS-OLK-FORCEINSPECTOROPEN:TRUE
BEGIN:VEVENT
CLASS:PUBLIC
DESCRIPTION: 49 North is supporting this event with lift tickets for those who do not have a pass at the resort.
DTEND:20260221T00:00:00Z
DTSTAMP:20260421T10:11:22Z
DTSTART:20260219T17:00:00Z
LAST-MODIFIED:20260421T10:11:22Z
LOCATION: 49° North[location]
SUMMARY;LANGUAGE=en-us:Freestyle Specialist 1
UID:20260421T10:11:22Z-16746-1994674755
END:VEVENT
END:VCALENDAR
