BEGIN:VCALENDAR
PRODID:-//Microsoft Corporation//Outlook 12.0 MIMEDIR//EN
VERSION:2.0
METHOD:PUBLISH
X-MS-OLK-FORCEINSPECTOROPEN:TRUE
BEGIN:VEVENT
CLASS:PUBLIC
DESCRIPTION: 
DTEND:20250130T03:30:00Z
DTSTAMP:20260422T02:16:39Z
DTSTART:20250130T02:00:00Z
LAST-MODIFIED:20260422T02:16:39Z
LOCATION: Online with Northwest[location]
SUMMARY;LANGUAGE=en-us:How Advanced Skiers Change Edges
UID:20260422T02:16:39Z-14959-862036823
END:VEVENT
END:VCALENDAR
