BEGIN:VCALENDAR
PRODID:-//Microsoft Corporation//Outlook 12.0 MIMEDIR//EN
VERSION:2.0
METHOD:PUBLISH
X-MS-OLK-FORCEINSPECTOROPEN:TRUE
BEGIN:VEVENT
CLASS:PUBLIC
DESCRIPTION: This is a Cross Country Level I exam at Mt. Hood Nordic Center for their instructors only. If you are not an instructor at Mt Hood Meadows you are not eligible for this exam. If you have any questions please contact your school director or PSIA-NW 206.244.8541.\nIn order to register for the on-snow, you will need to have completed the Cross Country Level I e-learning course which can be found at lms.thesnowpros.org (login with your user name and password).\n \nMake sure you are familiar with the Cross Country Standards, and the Cross Country Certification Guide.\n \nWelcome to your certification journey! #learnteachinspire #psiaaasinwwearefamily\n \n\n \n\n \n\n \n
DTEND:20250107T00:00:00Z
DTSTAMP:20260422T02:20:40Z
DTSTART:20250106T16:30:00Z
LAST-MODIFIED:20260422T02:20:40Z
LOCATION: Mt. Hood Meadows Nordic Center[location]
SUMMARY;LANGUAGE=en-us:Cross Country Level I Exam
UID:20260422T02:20:40Z-14951-1950093238
END:VEVENT
END:VCALENDAR
