BEGIN:VCALENDAR
PRODID:-//Microsoft Corporation//Outlook 12.0 MIMEDIR//EN
VERSION:2.0
METHOD:PUBLISH
X-MS-OLK-FORCEINSPECTOROPEN:TRUE
BEGIN:VEVENT
CLASS:PUBLIC
DESCRIPTION: **Due to the complexity of the event, no refunds or credits for cancellations or requests for transfers after the 15th of November.\n\nCrystal Mountain is supporting this educational event with lift tickets for those who do not have a season pass at the area.\n\nSPOT INSURANCE OFFER$25k injury coverage. $0 deductible.Make the most of your event, with Spot Insurance. Spot's policy pays up to $25,000 of your medical bills, with $0 deductible.For only $12.99 per day you're covered while skiing or snowboarding at your event--no matter if you have health insurance or not.Ready to ski or ride harder? Select "Choose" to add Spot below, then pay for your event like you normally would. A policy will be generated and someone from Spot will get in touch with more details.Policy modifications and cancellations must be done at least five days before the start date of the event. The policy is fully refundable until that time and is non-refundable after.Full coverage details found here: https://www.getspot.com/benefit-summary/psia-aasi-eventsSpot also offers annual insurance to keep you covered anytime you're skiing, riding, or mountain biking during the year for only $149.99. Learn more in your pro offer portal.
DTEND:20250129T00:00:00Z
DTSTAMP:20260422T02:07:01Z
DTSTART:20250127T16:15:00Z
LAST-MODIFIED:20260422T02:07:01Z
LOCATION: Crystal Mountain Resort[location]
SUMMARY;LANGUAGE=en-us:Winter Blast 2-Day
UID:20260422T02:07:01Z-14313-1421192366
END:VEVENT
END:VCALENDAR
